BEGIN:VCALENDAR
VERSION:2.0
PRODID:-//jukunet - ECPv6.15.16.1//NONSGML v1.0//EN
CALSCALE:GREGORIAN
METHOD:PUBLISH
X-WR-CALNAME:jukunet
X-ORIGINAL-URL:https://www.jukunet.de
X-WR-CALDESC:Veranstaltungen für jukunet
REFRESH-INTERVAL;VALUE=DURATION:PT1H
X-Robots-Tag:noindex
X-PUBLISHED-TTL:PT1H
BEGIN:VTIMEZONE
TZID:Europe/Berlin
BEGIN:DAYLIGHT
TZOFFSETFROM:+0100
TZOFFSETTO:+0200
TZNAME:CEST
DTSTART:20240331T010000
END:DAYLIGHT
BEGIN:STANDARD
TZOFFSETFROM:+0200
TZOFFSETTO:+0100
TZNAME:CET
DTSTART:20241027T010000
END:STANDARD
BEGIN:DAYLIGHT
TZOFFSETFROM:+0100
TZOFFSETTO:+0200
TZNAME:CEST
DTSTART:20250330T010000
END:DAYLIGHT
BEGIN:STANDARD
TZOFFSETFROM:+0200
TZOFFSETTO:+0100
TZNAME:CET
DTSTART:20251026T010000
END:STANDARD
BEGIN:DAYLIGHT
TZOFFSETFROM:+0100
TZOFFSETTO:+0200
TZNAME:CEST
DTSTART:20260329T010000
END:DAYLIGHT
BEGIN:STANDARD
TZOFFSETFROM:+0200
TZOFFSETTO:+0100
TZNAME:CET
DTSTART:20261025T010000
END:STANDARD
END:VTIMEZONE
BEGIN:VEVENT
DTSTART;TZID=Europe/Berlin:20250808T150000
DTEND;TZID=Europe/Berlin:20250808T173000
DTSTAMP:20260421T145814
CREATED:20250717T183709Z
LAST-MODIFIED:20250717T183709Z
UID:10000193-1754665200-1754674200@www.jukunet.de
SUMMARY:Ein Nachmittag bei der Feuerwehr
DESCRIPTION:Datum                         Freitag\, 08.08.\, 15-17.30 Uhr \nAlter                            6-17 Jahre \nTreffpunkt                   Feuerwehr-Gerätehaus\, Hoher Markstein 28 \nTeilnahmebeitrag       kostenfrei \nInfo / Mitbringen         Sitzerhöhung (für Kinder unter 1\,50 m / unter 12 Jahre) \nVeranstalter               Jugendfeuerwehr der Freiwilligen Feuerwehr Bad Königshofen \nLeitung                        Vitus Büchs \n  \nJugendfeuerwehr auf Nachwuchssuche \nNach einer kurzen Erkundung des Gerätehauses mitsamt vielen verschiedenen Fahrzeugen kannst du selber dein Können im Löschen beweisen und bei einer Rundfahrt im Löschfahrzeug Probe sitzen. Außerdem warten viele verschiedene Geschicklichkeitsspiele darauf von dir getestet zu werden. Klassiker wie das beliebte Kistenstapeln sind natürlich auch dabei. Bereit? Wir freuen uns auf dich. \nAb 12 Jahren kannst du auch gerne unserer Jugendfeuerwehr beitreten\, sprich uns dazu gerne am Veranstaltungstag an. \n 
URL:https://www.jukunet.de/kalender/ein-nachmittag-bei-der-feuerwehr/
CATEGORIES:jukunet,Museen in der Schranne
END:VEVENT
END:VCALENDAR