BEGIN:VCALENDAR
VERSION:2.0
PRODID:-//jukunet - ECPv6.15.16.1//NONSGML v1.0//EN
CALSCALE:GREGORIAN
METHOD:PUBLISH
X-WR-CALNAME:jukunet
X-ORIGINAL-URL:https://www.jukunet.de
X-WR-CALDESC:Veranstaltungen für jukunet
REFRESH-INTERVAL;VALUE=DURATION:PT1H
X-Robots-Tag:noindex
X-PUBLISHED-TTL:PT1H
BEGIN:VTIMEZONE
TZID:Europe/Berlin
BEGIN:DAYLIGHT
TZOFFSETFROM:+0100
TZOFFSETTO:+0200
TZNAME:CEST
DTSTART:20240331T010000
END:DAYLIGHT
BEGIN:STANDARD
TZOFFSETFROM:+0200
TZOFFSETTO:+0100
TZNAME:CET
DTSTART:20241027T010000
END:STANDARD
BEGIN:DAYLIGHT
TZOFFSETFROM:+0100
TZOFFSETTO:+0200
TZNAME:CEST
DTSTART:20250330T010000
END:DAYLIGHT
BEGIN:STANDARD
TZOFFSETFROM:+0200
TZOFFSETTO:+0100
TZNAME:CET
DTSTART:20251026T010000
END:STANDARD
BEGIN:DAYLIGHT
TZOFFSETFROM:+0100
TZOFFSETTO:+0200
TZNAME:CEST
DTSTART:20260329T010000
END:DAYLIGHT
BEGIN:STANDARD
TZOFFSETFROM:+0200
TZOFFSETTO:+0100
TZNAME:CET
DTSTART:20261025T010000
END:STANDARD
END:VTIMEZONE
BEGIN:VEVENT
DTSTART;TZID=Europe/Berlin:20250807T100000
DTEND;TZID=Europe/Berlin:20250807T120000
DTSTAMP:20260421T145757
CREATED:20250717T181520Z
LAST-MODIFIED:20250722T075615Z
UID:10000189-1754560800-1754568000@www.jukunet.de
SUMMARY:„Am Brunnen“ – hören + erzählen + gestalten**
DESCRIPTION:Datum                         Donnerstag\, 07.08.\, 10-12 Uhr \nAlter                            9-12 Jahre \nTreffpunkt                   Atelierhaus ALTES GUT\, Schulzengasse 1\, Herbstadt \nTeilnahmebeitrag       kostenfrei \nVeranstalter                Stadtbücherei und Kultur und Museen in der Schranne / jukunet \nLeitung                        Christine Wehe-Bamberger \n  \nZunächst werden Sagen\, Geschichten und Legenden rund ums „Wasser“ und „Brunnen“ aus dem Grabfeld gelesen. Dann erzählen die Kinder ihre Gedanken dazu und machen diese in Bildern sichtbar. Christine Wehe-Bamberger gibt Tipps\, wie aus farbigem Wasser auf großen Papierbögen „Fabelwesen“ und „Brunnengeister“ entstehen können. Vielleicht ergeben sich daraus neue Brunnen- und Wasser-Geschichten? Die angefertigten Bilder werden ab September in der Stadtbibliothek ausgestellt.
URL:https://www.jukunet.de/kalender/am-brunnen-hoeren-erzaehlen-gestalten/
LOCATION:Atelierhaus Altes Gut
CATEGORIES:jukunet,Museen in der Schranne
END:VEVENT
END:VCALENDAR