BEGIN:VCALENDAR
VERSION:2.0
PRODID:-//jukunet - ECPv6.15.16.1//NONSGML v1.0//EN
CALSCALE:GREGORIAN
METHOD:PUBLISH
X-ORIGINAL-URL:https://www.jukunet.de
X-WR-CALDESC:Veranstaltungen für jukunet
REFRESH-INTERVAL;VALUE=DURATION:PT1H
X-Robots-Tag:noindex
X-PUBLISHED-TTL:PT1H
BEGIN:VTIMEZONE
TZID:Europe/Berlin
BEGIN:DAYLIGHT
TZOFFSETFROM:+0100
TZOFFSETTO:+0200
TZNAME:CEST
DTSTART:20240331T010000
END:DAYLIGHT
BEGIN:STANDARD
TZOFFSETFROM:+0200
TZOFFSETTO:+0100
TZNAME:CET
DTSTART:20241027T010000
END:STANDARD
BEGIN:DAYLIGHT
TZOFFSETFROM:+0100
TZOFFSETTO:+0200
TZNAME:CEST
DTSTART:20250330T010000
END:DAYLIGHT
BEGIN:STANDARD
TZOFFSETFROM:+0200
TZOFFSETTO:+0100
TZNAME:CET
DTSTART:20251026T010000
END:STANDARD
BEGIN:DAYLIGHT
TZOFFSETFROM:+0100
TZOFFSETTO:+0200
TZNAME:CEST
DTSTART:20260329T010000
END:DAYLIGHT
BEGIN:STANDARD
TZOFFSETFROM:+0200
TZOFFSETTO:+0100
TZNAME:CET
DTSTART:20261025T010000
END:STANDARD
END:VTIMEZONE
BEGIN:VEVENT
DTSTART;TZID=Europe/Berlin:20250818T100000
DTEND;TZID=Europe/Berlin:20250823T170000
DTSTAMP:20260421T120158
CREATED:20250717T213733Z
LAST-MODIFIED:20250817T125445Z
UID:10000106-1755511200-1755968400@www.jukunet.de
SUMMARY:talentCAMPus Bin ich schön!?...und wer sagt mir das? Ein Theaterprojekt zum Selbstbild von Mädchen im Spiegel von Social Media*
DESCRIPTION:Datum                        Montag\, 18.08. bis Freitag\, 22.08.\, jeweils 10-17 Uhr\, und Samstag\, 23.08.\, 10-13 Uhr \nAlter                             12-16 Jahre \nOrt                              Kultur und Museen in der Schranne\, Martin-Reinhard-Straße 9\, Zugang auch über Kellereistraße 42 \nTeilnahmebeitrag       kostenfrei\, für Verpflegung ist gesorgt \nVeranstalter                 vhs Rhön-Grabfeld gGmbH \nLeitung                        Jennifer Kunstreich\, Christa Pasch \n  \nAuf Insta\, TikTok und YouTube sehen wir ständig unglaublich schöne Menschen. Sie scheinen ein tolles Leben zu führen – man wird richtig hineingesogen in ihre Stories. Spannend sind auch die Bilder und Texte von Freundinnen. \nHabt ihr selbst Profile? Wen schaut ihr euch an? Folgt ihr Personen\, findet aber eigentlich ganz andere Dinge schön? Stylt ihr Euch wie eure Vorbilder? Habt ihr Erfahrungen mit Likes\, Followern – oder mit Cybermobbing und Hatern? Was teilt ihr auf Snapchat oder WhatsApp? \nEure Meinung ist wichtig – so spannend\, dass wir daraus ein Theaterstück machen wollen! Gemeinsam mit euch bringen wir die Sonnen- und Schattenseiten von Schönheit und Social Media auf die Bühne.              Wenn du gerne schauspielerst – großartig! Wir helfen dir\, auf der Bühne zu leuchten. Und wenn du lieber hinter den Kulissen mitmachst: Auch super! \nWir suchen junge Ladies für Styling\, Kostüm\, Requisite oder Lichttechnik. \n 
URL:https://www.jukunet.de/kalender/talentcampus-bin-ich-schoen-und-wer-sagt-mir-das-ein-theaterprojekt-zum-selbstbild-von-maedchen-im-spiegel-von-social-media/
LOCATION:Kultur in der Schranne Bad Königshofen\, Martin-Reinhard-Str.9\, Bad Königshofen\, 97631\, Deutschland
CATEGORIES:jukunet,Museen in der Schranne,NEUSTART Treffpunkt Grabfeld,Zukunftspaket
END:VEVENT
BEGIN:VEVENT
DTSTART;TZID=Europe/Berlin:20250804T100000
DTEND;TZID=Europe/Berlin:20250808T170000
DTSTAMP:20260421T120158
CREATED:20250717T172028Z
LAST-MODIFIED:20250717T172028Z
UID:10000175-1754301600-1754672400@www.jukunet.de
SUMMARY:talentCAMPus Orient – Eine Reise von Ankara bis Kabul*
DESCRIPTION:Datum                         Montag\, 04.08. bis Freitag\, 08.08.\, jeweils 10-17 Uhr \nAlter                            ab 8 Jahre \nOrt                              Kultur und Museen in der Schranne\, Martin-Reinhard-Straße 9\, Zugang auch über Kellereistraße 42 \nTeilnahmebeitrag       kostenfrei\, für Verpflegung ist gesorgt \nVeranstalter                vhs Rhön-Grabfeld gGmbH \nLeitung                        Karsten Müller\, Hoshiyar Xano \nGemeinsam mit euch wollen wir uns auf eine Reise in die Kultur verschiedener Länder des Orients machen und dabei viel über die Kultur und die Bräuche in diesen Ländern erfahren. Mit wechselnden Gastdozentinnen und -dozenten aus verschiedenen Ländern wollen wir malen\, tanzen\, singen\, kochen und schöne und kreative Dinge herstellen und gestalten. Wenn ihr selbst Gegenstände\, Kleidung oder Fotos aus einem orientalischen Land habt\, dürft ihr diese gerne mitbringen. Am Freitagnachmittag wollen wir euren Eltern\, Geschwistern und Freunden Eindrücke von unserer Reise präsentieren. \n 
URL:https://www.jukunet.de/kalender/talentcampus-orient-eine-reise-von-ankara-bis-kabul/
LOCATION:Kultur in der Schranne Bad Königshofen\, Martin-Reinhard-Str.9\, Bad Königshofen\, 97631\, Deutschland
CATEGORIES:jukunet,Museen in der Schranne
END:VEVENT
END:VCALENDAR