BEGIN:VCALENDAR
VERSION:2.0
PRODID:-//jukunet - ECPv6.15.16.1//NONSGML v1.0//EN
CALSCALE:GREGORIAN
METHOD:PUBLISH
X-WR-CALNAME:jukunet
X-ORIGINAL-URL:https://www.jukunet.de
X-WR-CALDESC:Veranstaltungen für jukunet
REFRESH-INTERVAL;VALUE=DURATION:PT1H
X-Robots-Tag:noindex
X-PUBLISHED-TTL:PT1H
BEGIN:VTIMEZONE
TZID:Europe/Berlin
BEGIN:DAYLIGHT
TZOFFSETFROM:+0100
TZOFFSETTO:+0200
TZNAME:CEST
DTSTART:20240331T010000
END:DAYLIGHT
BEGIN:STANDARD
TZOFFSETFROM:+0200
TZOFFSETTO:+0100
TZNAME:CET
DTSTART:20241027T010000
END:STANDARD
BEGIN:DAYLIGHT
TZOFFSETFROM:+0100
TZOFFSETTO:+0200
TZNAME:CEST
DTSTART:20250330T010000
END:DAYLIGHT
BEGIN:STANDARD
TZOFFSETFROM:+0200
TZOFFSETTO:+0100
TZNAME:CET
DTSTART:20251026T010000
END:STANDARD
BEGIN:DAYLIGHT
TZOFFSETFROM:+0100
TZOFFSETTO:+0200
TZNAME:CEST
DTSTART:20260329T010000
END:DAYLIGHT
BEGIN:STANDARD
TZOFFSETFROM:+0200
TZOFFSETTO:+0100
TZNAME:CET
DTSTART:20261025T010000
END:STANDARD
END:VTIMEZONE
BEGIN:VEVENT
DTSTART;TZID=Europe/Berlin:20250612T130000
DTEND;TZID=Europe/Berlin:20250612T160000
DTSTAMP:20260421T163632
CREATED:20250526T153223Z
LAST-MODIFIED:20250526T153223Z
UID:10000165-1749733200-1749744000@www.jukunet.de
SUMMARY:Tag der offenen Tür im Wasserwerk Kleineibstadt
DESCRIPTION:Datum                         Donnerstag\, 12.06.\, 13-16 Uhr \nAlter                             für Kinder\, Jugendliche und Familien \nOrt                              Wasserwerk\, Bardorfer Straße 42\, 97633 Großeibstadt \nInfo                             Anmeldung nicht erforderlich \nTeilnahmebeitrag       kostenfrei \nVeranstalter                 Wasserzweckverband Bad Königshofen\, Gruppe „Mitte“ \n  \nBesucht anlässlich des „Jahrs des Wassers“ das Wasserwerk Kleineibstadt am „Tag der offenen Tür“! Der Wasserzweckverband Bad Königshofen\, Gruppe „Mitte“ lädt alle Interessierten herzlich ein. Kommt vorbei und lernt mehr über die Wassergewinnung und die Technik vor Ort.
URL:https://www.jukunet.de/kalender/tag-der-offenen-tuer-im-wasserwerk-kleineibstadt/
LOCATION:Wasserwerk\, Bardorfer Straße 42\, 97633 Großeibstadt\, Bardorfer Straße 42\, Großeibstadt\, Bayern\, 97633\, Deutschland
CATEGORIES:jukunet,Museen in der Schranne,NEUSTART Treffpunkt Grabfeld,Zukunftspaket
END:VEVENT
END:VCALENDAR