BEGIN:VCALENDAR
VERSION:2.0
PRODID:-//jukunet - ECPv6.15.16.1//NONSGML v1.0//EN
CALSCALE:GREGORIAN
METHOD:PUBLISH
X-WR-CALNAME:jukunet
X-ORIGINAL-URL:https://www.jukunet.de
X-WR-CALDESC:Veranstaltungen für jukunet
REFRESH-INTERVAL;VALUE=DURATION:PT1H
X-Robots-Tag:noindex
X-PUBLISHED-TTL:PT1H
BEGIN:VTIMEZONE
TZID:Europe/Berlin
BEGIN:DAYLIGHT
TZOFFSETFROM:+0100
TZOFFSETTO:+0200
TZNAME:CEST
DTSTART:20240331T010000
END:DAYLIGHT
BEGIN:STANDARD
TZOFFSETFROM:+0200
TZOFFSETTO:+0100
TZNAME:CET
DTSTART:20241027T010000
END:STANDARD
BEGIN:DAYLIGHT
TZOFFSETFROM:+0100
TZOFFSETTO:+0200
TZNAME:CEST
DTSTART:20250330T010000
END:DAYLIGHT
BEGIN:STANDARD
TZOFFSETFROM:+0200
TZOFFSETTO:+0100
TZNAME:CET
DTSTART:20251026T010000
END:STANDARD
BEGIN:DAYLIGHT
TZOFFSETFROM:+0100
TZOFFSETTO:+0200
TZNAME:CEST
DTSTART:20260329T010000
END:DAYLIGHT
BEGIN:STANDARD
TZOFFSETFROM:+0200
TZOFFSETTO:+0100
TZNAME:CET
DTSTART:20261025T010000
END:STANDARD
BEGIN:DAYLIGHT
TZOFFSETFROM:+0100
TZOFFSETTO:+0200
TZNAME:CEST
DTSTART:20270328T010000
END:DAYLIGHT
BEGIN:STANDARD
TZOFFSETFROM:+0200
TZOFFSETTO:+0100
TZNAME:CET
DTSTART:20271031T010000
END:STANDARD
END:VTIMEZONE
BEGIN:VEVENT
DTSTART;TZID=Europe/Berlin:20260221T120000
DTEND;TZID=Europe/Berlin:20260222T170000
DTSTAMP:20260424T202904
CREATED:20260203T202426Z
LAST-MODIFIED:20260204T165221Z
UID:10000323-1771675200-1771779600@www.jukunet.de
SUMMARY:Frühjahrs-Flohmarkt für Familien
DESCRIPTION:Datum                         Samstag\, 21.02. und Sonntag\, 22.02.\, jeweils 12-17 Uhr \nAlter                             für Familien \nOrt                              vhs\, Mehrgenerationenhaus und JuZ im Alten Kindergarten\, Martin-Reinhard-Straße 37 \nTeilnahmebeitrag        kostenfrei \nLeitung                        Veronika Keim \n  \nOb mit einem eigenen Stand oder als Besucher*in: unser beliebter Flohmarkt für Frauen\, Kinder\, Jugendliche und Familien bietet Kleidung\, Schuhe\, Schmuck\, Haushaltsgegenstände\, Dekoration\, Spielzeug. In den Innenräumen können Tische genutzt werden. Wir bitten um Anmeldung\, wer einen Flohmarktstand anbieten möchte. \n 
URL:https://www.jukunet.de/kalender/fruehjahrs-flohmarkt-fuer-familien/
LOCATION:vhs-MGH-JuZ\, Martin-Reinhard-Straße 37\, Bad Königshofen\, 97631\, Deutschland
CATEGORIES:jukunet,Museen in der Schranne,NEUSTART Treffpunkt Grabfeld,Zukunftspaket
ATTACH;FMTTYPE=image/jpeg:https://www.jukunet.de/wp-content/uploads/2026/02/Fruehjahrsflohmarkt.jpeg
END:VEVENT
BEGIN:VEVENT
DTSTART;TZID=Europe/Berlin:20260220T133000
DTEND;TZID=Europe/Berlin:20260220T150000
DTSTAMP:20260424T202904
CREATED:20260203T202310Z
LAST-MODIFIED:20260204T164746Z
UID:10000322-1771594200-1771599600@www.jukunet.de
SUMMARY:Origami – kleine Kunstwerke aus Papier*
DESCRIPTION:Datum                         Freitag\, 20.02.\, 13.30-15 Uhr \nAlter                             ab 6 Jahre \nOrt                               JuZ im Alten Kindergarten\, Martin-Reinhard-Straße 37\, 1. Stock \nTeilnahmebeitrag        kostenfrei \nMitbringen                   Schere\, Tesafilm\, alte Zeitungen (soweit vorhanden) \nLeitung                        Shinobu Itagaki \n  \nOrigami ist eine Technik des Papierfaltens und kommt aus Japan. Aus einem einzigen Blatt entstehen Figuren\, wenn man es auf bestimmte Weise faltet\, z.B. eine Blume oder ein Tier.
URL:https://www.jukunet.de/kalender/origami-kleine-kunstwerke-aus-papier-5/
LOCATION:vhs-MGH-JuZ\, Martin-Reinhard-Straße 37\, Bad Königshofen\, 97631\, Deutschland
CATEGORIES:jukunet,Museen in der Schranne,NEUSTART Treffpunkt Grabfeld,Zukunftspaket
END:VEVENT
BEGIN:VEVENT
DTSTART;TZID=Europe/Berlin:20260105T144500
DTEND;TZID=Europe/Berlin:20260105T153000
DTSTAMP:20260424T202904
CREATED:20251218T104233Z
LAST-MODIFIED:20260102T131451Z
UID:10000308-1767624300-1767627000@www.jukunet.de
SUMMARY:Jumping Fitness für Kids - Zusatztermin :-)
DESCRIPTION:Datum                         Montag\, 05.01.\, 14.45-15.30 Uhr \nAlter                             ab 6 Jahre \nOrt                              vhs im Alten Kindergarten\, Martin-Reinhard-Straße 37\, Erdgeschoss\, Fitnessraum 2 \nTeilnahmebeitrag       3 € \nInfo / Mitbringen          Sportkleidung\, Hallenturnschuhe (keine Straßenschuhe)\, Getränk \nLeitung                        Judith Machlet \n  \nTrampolinspringen macht Spaß und hält Dich fit. Probier’s doch mal aus!
URL:https://www.jukunet.de/kalender/jumping-fitness-fuer-kids-zusatztermin-3/
LOCATION:vhs-MGH-JuZ\, Martin-Reinhard-Straße 37\, Bad Königshofen\, 97631\, Deutschland
CATEGORIES:jukunet,Museen in der Schranne,NEUSTART Treffpunkt Grabfeld,Zukunftspaket
END:VEVENT
BEGIN:VEVENT
DTSTART;TZID=Europe/Berlin:20260105T140000
DTEND;TZID=Europe/Berlin:20260105T150000
DTSTAMP:20260424T202904
CREATED:20251209T151946Z
LAST-MODIFIED:20260102T131416Z
UID:10000302-1767621600-1767625200@www.jukunet.de
SUMMARY:Step Aerobic für Kids
DESCRIPTION:Datum                         Montag\, 05.01.\, 14-15 Uhr \nAlter                             ab 8 Jahre \nOrt                              vhs im Alten Kindergarten\, Martin-Reinhard-Straße 37\, Erdgeschoss\, Fitnessraum 1 \nTeilnahmebeitrag       3 € \nInfo / Mitbringen          Sportkleidung\, Hallenturnschuhe (keine Straßenschuhe)\, Getränk \nLeitung                        Iryna Kobzar \n  \nBewegst du dich gerne zu Musik? Wir lernen einfache Schrittkombinationen mit dem Stepper. Das macht Spaß und hält dich fit. Probier’s doch mal aus!
URL:https://www.jukunet.de/kalender/step-aerobic-fuer-kids/
LOCATION:vhs-MGH-JuZ\, Martin-Reinhard-Straße 37\, Bad Königshofen\, 97631\, Deutschland
CATEGORIES:jukunet,Museen in der Schranne,NEUSTART Treffpunkt Grabfeld,Zukunftspaket
END:VEVENT
BEGIN:VEVENT
DTSTART;TZID=Europe/Berlin:20250805T100000
DTEND;TZID=Europe/Berlin:20250807T170000
DTSTAMP:20260424T202904
CREATED:20250717T173515Z
LAST-MODIFIED:20250717T175317Z
UID:10000180-1754388000-1754586000@www.jukunet.de
SUMMARY:Die Welt des K-Pop – Theater und Tanz**
DESCRIPTION:Datum                         Dienstag\, 05.08. bis Donnerstag\, 07.08.\, jeweils 10-17 Uhr \nAlter                            ab 8 Jahre \nOrt                              vhs im Alten Kindergarten\, Martin-Reinhard-Straße 37\, Erdgeschoss \nTeilnahmebeitrag        kostenfrei\, für Verpflegung ist gesorgt \nLeitung                        Niyaz und Nika Behdarvand \nWir tauchen ein in die Welt des K-Pop. Freut euch auf drei Tage voller positiver Energie mit koreanischer Pop-Musik\, dem typischen Kleidungs- und Make-up-Style und koreanischen Snacks und Getränken. Wir lernen Choreografien\, werden kreativ und spielen kleine Theaterszenen.
URL:https://www.jukunet.de/kalender/die-welt-des-k-pop-theater-und-tanz/
LOCATION:vhs-MGH-JuZ\, Martin-Reinhard-Straße 37\, Bad Königshofen\, 97631\, Deutschland
CATEGORIES:jukunet,Museen in der Schranne
END:VEVENT
BEGIN:VEVENT
DTSTART;TZID=Europe/Berlin:20250804T100000
DTEND;TZID=Europe/Berlin:20250804T170000
DTSTAMP:20260424T202904
CREATED:20250717T172634Z
LAST-MODIFIED:20250718T111309Z
UID:10000177-1754301600-1754326800@www.jukunet.de
SUMMARY:Prinzessinnen-Tag – Krönchen auf und LOS!**
DESCRIPTION:Datum                         Montag\, 04.08.\,10-17 Uhr \nAlter                            ab 5 Jahre \nOrt                              vhs im Alten Kindergarten\, Martin-Reinhard-Straße 37\, Erdgeschoss \nTeilnahmebeitrag        kostenfrei\, für Verpflegung ist gesorgt \nLeitung                        Christina und Kyra Scheit \n  \nHeute werden wir alle Prinzessinnen sein! Habt ihr Lust\, euch wie eine Prinzessin zu verkleiden? Dann kommt gerne VERKLEIDET zu diesem Workshoptag oder nehmt euch ein Prinzessinnen-Outfit mit\, wenn ihr möchtet. Auf dem Programm stehen heute ein „höfischer“ Tanz\, und auch schwungvollere Tänze zu Disney-Prinzessinnen-Melodien. Wir machen ein Prinzessinnen-Training\, damit wir eure königliche Körper-Haltung üben. Außerdem erfahrt ihr etwas über wichtige und starke Frauen\, die ihren eigenen Weg gegangen sind. \nDann ist Kreativ-Zeit! Ihr dürft einen eigenen Prinzessinnen-Spiegel basteln und danach ein Krönchen-Diadem gestalten. Habt ihr Lust auf einen „Prinzessinnen-Tag“? \nDann meldet euch schnell an und schreitet herbei\, edle Prinzessinnen! \n 
URL:https://www.jukunet.de/kalender/prinzessinnen-tag-kroenchen-auf-und-los/
LOCATION:vhs-MGH-JuZ\, Martin-Reinhard-Straße 37\, Bad Königshofen\, 97631\, Deutschland
CATEGORIES:jukunet,Museen in der Schranne
END:VEVENT
END:VCALENDAR